BEGIN:VCALENDAR
VERSION:2.0
PRODID:-//OsakaLive//OsakaLive//EN
CALSCALE:GREGORIAN
METHOD:PUBLISH
BEGIN:VEVENT
UID:fe33cbde-cbc2-45b3-96f1-2a4a64db764b@osaka-live.app
DTSTAMP:20260425T102851Z
DTSTART;VALUE=DATE:20270527
DTEND;VALUE=DATE:20270528
SUMMARY:■ジョン・バティステ／Jon Batiste
LOCATION:Zepp Namba\, Osaka\, Japan
END:VEVENT
END:VCALENDAR
