BEGIN:VCALENDAR
VERSION:2.0
PRODID:-//OsakaLive//OsakaLive//EN
CALSCALE:GREGORIAN
METHOD:PUBLISH
BEGIN:VEVENT
UID:fddf9f45-541a-41d3-a046-aeba0f30405d@osaka-live.app
DTSTAMP:20260424T134044Z
DTSTART;TZID=Asia/Tokyo:20260622T1930:0000
DTEND;TZID=Asia/Tokyo:20260622T213000
SUMMARY:ゆうさりゆうされば
LOCATION:Namba BEARS\, Osaka\, Japan
DESCRIPTION:Adv ¥2,000 / Door ¥2,000\nDoors 19:00:00\nStart 19:30:00
END:VEVENT
END:VCALENDAR
