BEGIN:VCALENDAR
VERSION:2.0
PRODID:-//OsakaLive//OsakaLive//EN
CALSCALE:GREGORIAN
METHOD:PUBLISH
BEGIN:VEVENT
UID:fdc79d0d-8d34-4160-b18d-1f62ad6fcfe8@osaka-live.app
DTSTAMP:20260424T140228Z
DTSTART;VALUE=DATE:20260717
DTEND;VALUE=DATE:20260718
SUMMARY:うるさいFRIDAY
LOCATION:Namba BEARS\, Osaka\, Japan
END:VEVENT
END:VCALENDAR
