BEGIN:VCALENDAR
VERSION:2.0
PRODID:-//OsakaLive//OsakaLive//EN
CALSCALE:GREGORIAN
METHOD:PUBLISH
BEGIN:VEVENT
UID:fd024284-ef1f-43ab-9ecd-c47f4ef8cbee@osaka-live.app
DTSTAMP:20260424T123234Z
DTSTART;VALUE=DATE:20260402
DTEND;VALUE=DATE:20260403
SUMMARY:NIGHT
LOCATION:Hokage\, Chuo Ward\, Nishishinsaibashi 2-9-36\, Kasai Bldg B1F
END:VEVENT
END:VCALENDAR
