BEGIN:VCALENDAR
VERSION:2.0
PRODID:-//OsakaLive//OsakaLive//EN
CALSCALE:GREGORIAN
METHOD:PUBLISH
BEGIN:VEVENT
UID:fa488f78-a8bd-4ffb-8b76-3aaeabd5b07a@osaka-live.app
DTSTAMP:20260424T121352Z
DTSTART;VALUE=DATE:20260425
DTEND;VALUE=DATE:20260426
SUMMARY:KANG MINSU
LOCATION:Yogibo META VALLEY\, Osaka\, Japan
DESCRIPTION:Adv ¥8,800 / Door ¥6,000
END:VEVENT
END:VCALENDAR
