BEGIN:VCALENDAR
VERSION:2.0
PRODID:-//OsakaLive//OsakaLive//EN
CALSCALE:GREGORIAN
METHOD:PUBLISH
BEGIN:VEVENT
UID:f890dfaf-0d88-4f9f-b334-895f4bde3118@osaka-live.app
DTSTAMP:20260424T140021Z
DTSTART;TZID=Asia/Tokyo:20260627T1800:0000
DTEND;TZID=Asia/Tokyo:20260627T200000
SUMMARY:Laughing Hick ONEMAN TOUR 2026 ”ハロー ノットグッバイ”
LOCATION:Yogibo META VALLEY\, Osaka\, Japan
DESCRIPTION:Adv ¥8,800 / Door ¥4,500\nDoors 17:15:00\nStart 18:00:00
END:VEVENT
END:VCALENDAR
