BEGIN:VCALENDAR
VERSION:2.0
PRODID:-//OsakaLive//OsakaLive//EN
CALSCALE:GREGORIAN
METHOD:PUBLISH
BEGIN:VEVENT
UID:f5ca1147-0a28-4fbb-816a-c161b79e7cd1@osaka-live.app
DTSTAMP:20260424T134454Z
DTSTART;TZID=Asia/Tokyo:20260614T1200:0000
DTEND;TZID=Asia/Tokyo:20260614T140000
SUMMARY:THE NOTHINGFACE FROM COLOMBIA
LOCATION:Namba BEARS\, Osaka\, Japan
DESCRIPTION:Adv ¥2,000 / Door ¥2,000\nDoors 11:30:00\nStart 12:00:00
END:VEVENT
END:VCALENDAR
