BEGIN:VCALENDAR
VERSION:2.0
PRODID:-//OsakaLive//OsakaLive//EN
CALSCALE:GREGORIAN
METHOD:PUBLISH
BEGIN:VEVENT
UID:f5aabf29-04cc-420a-83d9-e9795c830389@osaka-live.app
DTSTAMP:20260424T123405Z
DTSTART;TZID=Asia/Tokyo:20260415T1800:0000
DTEND;TZID=Asia/Tokyo:20260415T200000
SUMMARY:PIEN presents VOl.91 -SPARKLE WAVE- 500YEN SPARK SESSION –
LOCATION:Americamura DROP\, Osaka\, Japan
DESCRIPTION:Doors 17:30:00\nStart 18:00:00
END:VEVENT
END:VCALENDAR
