BEGIN:VCALENDAR
VERSION:2.0
PRODID:-//OsakaLive//OsakaLive//EN
CALSCALE:GREGORIAN
METHOD:PUBLISH
BEGIN:VEVENT
UID:f5172a52-1cb6-4bed-a569-c439119e37c1@osaka-live.app
DTSTAMP:20260424T122527Z
DTSTART;TZID=Asia/Tokyo:20260508T1900:0000
DTEND;TZID=Asia/Tokyo:20260508T210000
SUMMARY:MFAD#90
LOCATION:Namba BEARS\, Osaka\, Japan
DESCRIPTION:Adv ¥2,500 / Door ¥2,500\nDoors 18:30:00\nStart 19:00:00
END:VEVENT
END:VCALENDAR
