BEGIN:VCALENDAR
VERSION:2.0
PRODID:-//OsakaLive//OsakaLive//EN
CALSCALE:GREGORIAN
METHOD:PUBLISH
BEGIN:VEVENT
UID:f4c776f7-427e-462b-a1da-6f1e6a864039@osaka-live.app
DTSTAMP:20260424T140059Z
DTSTART;TZID=Asia/Tokyo:20260520T1900:0000
DTEND;TZID=Asia/Tokyo:20260520T210000
SUMMARY:唄うふたり
LOCATION:Namba BEARS\, Osaka\, Japan
DESCRIPTION:Adv ¥2,500 / Door ¥3,000\nDoors 18:30:00\nStart 19:00:00
END:VEVENT
END:VCALENDAR
