BEGIN:VCALENDAR
VERSION:2.0
PRODID:-//OsakaLive//OsakaLive//EN
CALSCALE:GREGORIAN
METHOD:PUBLISH
BEGIN:VEVENT
UID:f4a9949e-a2ab-43c8-8287-b6da43c4e01a@osaka-live.app
DTSTAMP:20260424T133531Z
DTSTART;VALUE=DATE:20260712
DTEND;VALUE=DATE:20260713
SUMMARY:DEATHGRAVE / BLACK GANION Japan Tour 2026
LOCATION:Namba BEARS\, Osaka\, Japan
END:VEVENT
END:VCALENDAR
