BEGIN:VCALENDAR
VERSION:2.0
PRODID:-//OsakaLive//OsakaLive//EN
CALSCALE:GREGORIAN
METHOD:PUBLISH
BEGIN:VEVENT
UID:f449e9b0-a60f-48aa-98a8-4fd881a8ae8d@osaka-live.app
DTSTAMP:20260424T123524Z
DTSTART;TZID=Asia/Tokyo:20260425T1445:0000
DTEND;TZID=Asia/Tokyo:20260425T164500
SUMMARY:1部】PENTA+LOGUE GO WEST ～そやな編
LOCATION:BIG CAT\, Americamura\, Nishi Ward\, Osaka
DESCRIPTION:Doors 14:00:00\nStart 14:45:00\nTickets: http://l-tike.com/
URL:http://l-tike.com/
END:VEVENT
END:VCALENDAR
