BEGIN:VCALENDAR
VERSION:2.0
PRODID:-//OsakaLive//OsakaLive//EN
CALSCALE:GREGORIAN
METHOD:PUBLISH
BEGIN:VEVENT
UID:f42ce6f3-20c0-4d22-b501-61a7e33be607@osaka-live.app
DTSTAMP:20260425T140133Z
DTSTART;VALUE=DATE:20270917
DTEND;VALUE=DATE:20270918
SUMMARY:■アモルフィス／Amorphis
LOCATION:Umeda Club Quattro\, Osaka\, Japan
END:VEVENT
END:VCALENDAR
