BEGIN:VCALENDAR
VERSION:2.0
PRODID:-//OsakaLive//OsakaLive//EN
CALSCALE:GREGORIAN
METHOD:PUBLISH
BEGIN:VEVENT
UID:f3a0c572-8b3f-4dd7-80aa-8d31dab3aac5@osaka-live.app
DTSTAMP:20260424T123525Z
DTSTART;TZID=Asia/Tokyo:20260426T1700:0000
DTEND;TZID=Asia/Tokyo:20260426T190000
SUMMARY:LilyS/ash 大阪単独公演
LOCATION:Americamura DROP\, Osaka\, Japan
DESCRIPTION:Adv ¥3,000 / Door ¥1,000\nDoors 16:30:00\nStart 17:00:00
END:VEVENT
END:VCALENDAR
