BEGIN:VCALENDAR
VERSION:2.0
PRODID:-//OsakaLive//OsakaLive//EN
CALSCALE:GREGORIAN
METHOD:PUBLISH
BEGIN:VEVENT
UID:f3774354-636e-402e-8a6d-e71920a6e59c@osaka-live.app
DTSTAMP:20260424T135704Z
DTSTART;VALUE=DATE:20260621
DTEND;VALUE=DATE:20260622
SUMMARY:あふりらんぽ
LOCATION:Namba BEARS\, Osaka\, Japan
END:VEVENT
END:VCALENDAR
