BEGIN:VCALENDAR
VERSION:2.0
PRODID:-//OsakaLive//OsakaLive//EN
CALSCALE:GREGORIAN
METHOD:PUBLISH
BEGIN:VEVENT
UID:f31eabdc-a5e4-47fc-bb00-e9f05e6c97d5@osaka-live.app
DTSTAMP:20260424T122151Z
DTSTART;TZID=Asia/Tokyo:20260504T1830:0000
DTEND;TZID=Asia/Tokyo:20260504T203000
SUMMARY:AXXX1S 8th ANNIVERSARY TOUR 2026 in OSAKA
LOCATION:Yogibo META VALLEY\, Osaka\, Japan
DESCRIPTION:Adv ¥6,500 / Door ¥6,000\nDoors 18:00:00\nStart 18:30:00
END:VEVENT
END:VCALENDAR
