BEGIN:VCALENDAR
VERSION:2.0
PRODID:-//OsakaLive//OsakaLive//EN
CALSCALE:GREGORIAN
METHOD:PUBLISH
BEGIN:VEVENT
UID:f2e8c693-258a-4b3c-ac6e-cd497ccd57b0@osaka-live.app
DTSTAMP:20260424T135832Z
DTSTART;TZID=Asia/Tokyo:20260704T1700:0000
DTEND;TZID=Asia/Tokyo:20260704T190000
SUMMARY:study#23-「特製・脳味噌絶倫スープ」とThe Heart Treeの復習
LOCATION:Yogibo META VALLEY\, Osaka\, Japan
DESCRIPTION:Adv ¥7,000 / Door ¥7,000\nDoors 16:15:00\nStart 17:00:00
END:VEVENT
END:VCALENDAR
