BEGIN:VCALENDAR
VERSION:2.0
PRODID:-//OsakaLive//OsakaLive//EN
CALSCALE:GREGORIAN
METHOD:PUBLISH
BEGIN:VEVENT
UID:f2205715-b960-4fc6-b706-57361ad13b31@osaka-live.app
DTSTAMP:20260424T122504Z
DTSTART;VALUE=DATE:20270428
DTEND;VALUE=DATE:20270429
SUMMARY:■NAPALM DEATH、Merzbow 、GROWL OF CLOWN
LOCATION:Umeda Club Quattro\, Osaka\, Japan
END:VEVENT
END:VCALENDAR
