BEGIN:VCALENDAR
VERSION:2.0
PRODID:-//OsakaLive//OsakaLive//EN
CALSCALE:GREGORIAN
METHOD:PUBLISH
BEGIN:VEVENT
UID:f1d27b8e-e3a2-48ae-bd0e-cfa489c6ee6f@osaka-live.app
DTSTAMP:20260424T152922Z
DTSTART;TZID=Asia/Tokyo:20260615T1730:0000
DTEND;TZID=Asia/Tokyo:20260615T193000
SUMMARY:性傷年倶楽部 倶楽部会員募集ツアー
LOCATION:Americamura DROP\, Osaka\, Japan
DESCRIPTION:Doors 17:00:00\nStart 17:30:00
END:VEVENT
END:VCALENDAR
