BEGIN:VCALENDAR
VERSION:2.0
PRODID:-//OsakaLive//OsakaLive//EN
CALSCALE:GREGORIAN
METHOD:PUBLISH
BEGIN:VEVENT
UID:f1258a88-b964-48ae-88cd-7f3ae5d3220a@osaka-live.app
DTSTAMP:20260424T122756Z
DTSTART;VALUE=DATE:20260429
DTEND;VALUE=DATE:20260430
SUMMARY:BASS ON TOP PRESENTS LIVE EVENT 尼戦線
LOCATION:Umeda Zeela\, Osaka\, Japan
DESCRIPTION:Adv ¥2,000 / Door ¥2,000
END:VEVENT
END:VCALENDAR
