BEGIN:VCALENDAR
VERSION:2.0
PRODID:-//OsakaLive//OsakaLive//EN
CALSCALE:GREGORIAN
METHOD:PUBLISH
BEGIN:VEVENT
UID:f0f7dd80-74c1-48b3-8228-c2cb28b07879@osaka-live.app
DTSTAMP:20260424T134908Z
DTSTART;TZID=Asia/Tokyo:20260619T1830:0000
DTEND;TZID=Asia/Tokyo:20260619T203000
SUMMARY:CURRENTS LIVE IN JAPAN 2026
LOCATION:Yogibo META VALLEY\, Osaka\, Japan
DESCRIPTION:Adv ¥9,000 / Door ¥16,400\nDoors 18:00:00\nStart 18:30:00
END:VEVENT
END:VCALENDAR
