BEGIN:VCALENDAR
VERSION:2.0
PRODID:-//OsakaLive//OsakaLive//EN
CALSCALE:GREGORIAN
METHOD:PUBLISH
BEGIN:VEVENT
UID:f01491a0-293b-4983-a332-1a752fbf40cd@osaka-live.app
DTSTAMP:20260424T140756Z
DTSTART;TZID=Asia/Tokyo:20260703T1830:0000
DTEND;TZID=Asia/Tokyo:20260703T203000
SUMMARY:study#22-「タイトルなし」とRAINBOWの復習
LOCATION:Yogibo META VALLEY\, Osaka\, Japan
DESCRIPTION:Adv ¥7,300 / Door ¥7,000\nDoors 17:45:00\nStart 18:30:00
END:VEVENT
END:VCALENDAR
