BEGIN:VCALENDAR
VERSION:2.0
PRODID:-//OsakaLive//OsakaLive//EN
CALSCALE:GREGORIAN
METHOD:PUBLISH
BEGIN:VEVENT
UID:ef49f585-3c4f-4328-9b46-118e4363465e@osaka-live.app
DTSTAMP:20260424T123745Z
DTSTART;VALUE=DATE:20260405
DTEND;VALUE=DATE:20260406
SUMMARY:カラスのたまり場5th
LOCATION:Umeda Zeela\, Osaka\, Japan
END:VEVENT
END:VCALENDAR
