BEGIN:VCALENDAR
VERSION:2.0
PRODID:-//OsakaLive//OsakaLive//EN
CALSCALE:GREGORIAN
METHOD:PUBLISH
BEGIN:VEVENT
UID:eeac61fb-c13f-49b1-8c2a-e78fae646690@osaka-live.app
DTSTAMP:20260424T123232Z
DTSTART;TZID=Asia/Tokyo:20260401T1900:0000
DTEND;TZID=Asia/Tokyo:20260401T210000
SUMMARY:ソープ嬢変死4thアルバム発売記念ライブ〜BEARS編〜
LOCATION:Namba BEARS\, Osaka\, Japan
DESCRIPTION:Adv ¥2,500 / Door ¥2,800\nDoors 18:30:00\nStart 19:00:00
END:VEVENT
END:VCALENDAR
