BEGIN:VCALENDAR
VERSION:2.0
PRODID:-//OsakaLive//OsakaLive//EN
CALSCALE:GREGORIAN
METHOD:PUBLISH
BEGIN:VEVENT
UID:ed4ec275-f075-4d0b-881c-6d7404012288@osaka-live.app
DTSTAMP:20260424T140335Z
DTSTART;TZID=Asia/Tokyo:20260708T1930:0000
DTEND;TZID=Asia/Tokyo:20260708T213000
SUMMARY:コンタクト
LOCATION:Namba BEARS\, Osaka\, Japan
DESCRIPTION:Adv ¥2,800 / Door ¥3,500\nDoors 19:00:00\nStart 19:30:00
END:VEVENT
END:VCALENDAR
