BEGIN:VCALENDAR
VERSION:2.0
PRODID:-//OsakaLive//OsakaLive//EN
CALSCALE:GREGORIAN
METHOD:PUBLISH
BEGIN:VEVENT
UID:ed3b68c1-81aa-4503-a951-6f16419b6dea@osaka-live.app
DTSTAMP:20260424T135703Z
DTSTART;VALUE=DATE:20260709
DTEND;VALUE=DATE:20260710
SUMMARY:クリトリック・リス　ワンマン
LOCATION:Namba BEARS\, Osaka\, Japan
END:VEVENT
END:VCALENDAR
