BEGIN:VCALENDAR
VERSION:2.0
PRODID:-//OsakaLive//OsakaLive//EN
CALSCALE:GREGORIAN
METHOD:PUBLISH
BEGIN:VEVENT
UID:ecfad1aa-1b70-47ee-9f18-632d6c7ade30@osaka-live.app
DTSTAMP:20260424T135827Z
DTSTART;TZID=Asia/Tokyo:20260701T1930:0000
DTEND;TZID=Asia/Tokyo:20260701T213000
SUMMARY:DELIVER B records presents
LOCATION:Namba BEARS\, Osaka\, Japan
DESCRIPTION:Adv ¥1,500 / Door ¥2,000\nDoors 19:00:00\nStart 19:30:00
END:VEVENT
END:VCALENDAR
