BEGIN:VCALENDAR
VERSION:2.0
PRODID:-//OsakaLive//OsakaLive//EN
CALSCALE:GREGORIAN
METHOD:PUBLISH
BEGIN:VEVENT
UID:ec7532ac-476e-4e5c-afe6-0bd22b7a272c@osaka-live.app
DTSTAMP:20260424T135517Z
DTSTART;TZID=Asia/Tokyo:20260630T1930:0000
DTEND;TZID=Asia/Tokyo:20260630T213000
SUMMARY:DELIVER B records presents
LOCATION:Namba BEARS\, Osaka\, Japan
DESCRIPTION:Adv ¥2,500 / Door ¥2,500\nDoors 19:00:00\nStart 19:30:00
END:VEVENT
END:VCALENDAR
