BEGIN:VCALENDAR
VERSION:2.0
PRODID:-//OsakaLive//OsakaLive//EN
CALSCALE:GREGORIAN
METHOD:PUBLISH
BEGIN:VEVENT
UID:ec0affbe-5d42-4a14-be93-c98e4d878070@osaka-live.app
DTSTAMP:20260424T123437Z
DTSTART;VALUE=DATE:20270518
DTEND;VALUE=DATE:20270519
SUMMARY:■Nothing Sacred
LOCATION:Hokage\, Chuo Ward\, Nishishinsaibashi 2-9-36\, Kasai Bldg B1F
END:VEVENT
END:VCALENDAR
