BEGIN:VCALENDAR
VERSION:2.0
PRODID:-//OsakaLive//OsakaLive//EN
CALSCALE:GREGORIAN
METHOD:PUBLISH
BEGIN:VEVENT
UID:eb9db771-a0af-488e-95d1-70bd404928be@osaka-live.app
DTSTAMP:20260424T183346Z
DTSTART;VALUE=DATE:20260501
DTEND;VALUE=DATE:20260502
SUMMARY:Cybertokyo
LOCATION:Club Joule\, Shinsaibashi\, Chuo Ward\, Osaka
END:VEVENT
END:VCALENDAR
