BEGIN:VCALENDAR
VERSION:2.0
PRODID:-//OsakaLive//OsakaLive//EN
CALSCALE:GREGORIAN
METHOD:PUBLISH
BEGIN:VEVENT
UID:eb6a42ba-ee4e-46e0-bc7f-b0cb664172a3@osaka-live.app
DTSTAMP:20260425T002205Z
DTSTART;VALUE=DATE:20270618
DTEND;VALUE=DATE:20270619
SUMMARY:■コートニー・バーネット／Courtney Barnett
LOCATION:Osaka Ruido\, Namba\, Chuo Ward\, Osaka
END:VEVENT
END:VCALENDAR
