BEGIN:VCALENDAR
VERSION:2.0
PRODID:-//OsakaLive//OsakaLive//EN
CALSCALE:GREGORIAN
METHOD:PUBLISH
BEGIN:VEVENT
UID:e96d0bda-ca4d-4e4e-bf6f-47c60f4ecb25@osaka-live.app
DTSTAMP:20260424T123218Z
DTSTART;TZID=Asia/Tokyo:20260407T1900:0000
DTEND;TZID=Asia/Tokyo:20260407T210000
SUMMARY:マギマギpresents『ココロシンドローム VS デスキャンディ
LOCATION:Americamura DROP\, Osaka\, Japan
DESCRIPTION:Doors 18:40:00\nStart 19:00:00
END:VEVENT
END:VCALENDAR
