BEGIN:VCALENDAR
VERSION:2.0
PRODID:-//OsakaLive//OsakaLive//EN
CALSCALE:GREGORIAN
METHOD:PUBLISH
BEGIN:VEVENT
UID:e878f318-9d1a-436b-add3-c6d28047f0b7@osaka-live.app
DTSTAMP:20260424T123849Z
DTSTART;TZID=Asia/Tokyo:20260408T1830:0000
DTEND;TZID=Asia/Tokyo:20260408T203000
SUMMARY:The Everlasting Days Vol.15
LOCATION:Americamura DROP\, Osaka\, Japan
DESCRIPTION:Doors 18:00:00\nStart 18:30:00
END:VEVENT
END:VCALENDAR
