BEGIN:VCALENDAR
VERSION:2.0
PRODID:-//OsakaLive//OsakaLive//EN
CALSCALE:GREGORIAN
METHOD:PUBLISH
BEGIN:VEVENT
UID:e86dac1b-2259-46ce-b109-d1069d5a96d0@osaka-live.app
DTSTAMP:20260424T133724Z
DTSTART;TZID=Asia/Tokyo:20260610T1930:0000
DTEND;TZID=Asia/Tokyo:20260610T213000
SUMMARY:とうめいロボ
LOCATION:Namba BEARS\, Osaka\, Japan
DESCRIPTION:Adv ¥3,000 / Door ¥3,500\nDoors 19:00:00\nStart 19:30:00
END:VEVENT
END:VCALENDAR
