BEGIN:VCALENDAR
VERSION:2.0
PRODID:-//OsakaLive//OsakaLive//EN
CALSCALE:GREGORIAN
METHOD:PUBLISH
BEGIN:VEVENT
UID:e856297c-161c-4e1a-adb4-5f3a686fccc2@osaka-live.app
DTSTAMP:20260424T133641Z
DTSTART;TZID=Asia/Tokyo:20260523T1900:0000
DTEND;TZID=Asia/Tokyo:20260523T210000
SUMMARY:Second to none
LOCATION:Namba BEARS\, Osaka\, Japan
DESCRIPTION:Adv ¥2,500 / Door ¥3,000\nDoors 18:30:00\nStart 19:00:00
END:VEVENT
END:VCALENDAR
