BEGIN:VCALENDAR
VERSION:2.0
PRODID:-//OsakaLive//OsakaLive//EN
CALSCALE:GREGORIAN
METHOD:PUBLISH
BEGIN:VEVENT
UID:e82a594b-f9f9-4a77-a855-20d3d8da90d6@osaka-live.app
DTSTAMP:20260424T134638Z
DTSTART;TZID=Asia/Tokyo:20260620T1100:0000
DTEND;TZID=Asia/Tokyo:20260620T130000
SUMMARY:いかめがねすーすー
LOCATION:Namba BEARS\, Osaka\, Japan
DESCRIPTION:Adv ¥1,500 / Door ¥1,500\nDoors 10:30:00\nStart 11:00:00
END:VEVENT
END:VCALENDAR
