BEGIN:VCALENDAR
VERSION:2.0
PRODID:-//OsakaLive//OsakaLive//EN
CALSCALE:GREGORIAN
METHOD:PUBLISH
BEGIN:VEVENT
UID:e7329b8b-3caf-481a-8e8e-81b8f3cc98c0@osaka-live.app
DTSTAMP:20260424T123526Z
DTSTART;VALUE=DATE:20261205
DTEND;VALUE=DATE:20261206
SUMMARY:2011年以前
LOCATION:BIG CAT\, Americamura\, Nishi Ward\, Osaka
DESCRIPTION:Tickets: http://l-tike.com/
URL:http://l-tike.com/
END:VEVENT
END:VCALENDAR
