BEGIN:VCALENDAR
VERSION:2.0
PRODID:-//OsakaLive//OsakaLive//EN
CALSCALE:GREGORIAN
METHOD:PUBLISH
BEGIN:VEVENT
UID:e5f23f2e-97e7-4328-b3c2-9754d39c1577@osaka-live.app
DTSTAMP:20260424T135929Z
DTSTART;TZID=Asia/Tokyo:20260328T1730:0000
DTEND;TZID=Asia/Tokyo:20260328T193000
SUMMARY:JANUSチケット」の電話予約 (55) 開始
LOCATION:Music Club JANUS\, Shinsaibashi\, Chuo Ward\, Osaka
DESCRIPTION:Start 17:30:00
END:VEVENT
END:VCALENDAR
