BEGIN:VCALENDAR
VERSION:2.0
PRODID:-//OsakaLive//OsakaLive//EN
CALSCALE:GREGORIAN
METHOD:PUBLISH
BEGIN:VEVENT
UID:e3482e84-5f3a-4415-85d5-0867f9fde5ff@osaka-live.app
DTSTAMP:20260424T135742Z
DTSTART;TZID=Asia/Tokyo:20260624T1830:0000
DTEND;TZID=Asia/Tokyo:20260624T203000
SUMMARY:慈愛/THE I 26
LOCATION:Namba BEARS\, Osaka\, Japan
DESCRIPTION:Adv ¥1,500 / Door ¥1,500\nStart 18:30:00
END:VEVENT
END:VCALENDAR
