BEGIN:VCALENDAR
VERSION:2.0
PRODID:-//OsakaLive//OsakaLive//EN
CALSCALE:GREGORIAN
METHOD:PUBLISH
BEGIN:VEVENT
UID:e2a968fc-05a4-459f-8947-b91836ed34e6@osaka-live.app
DTSTAMP:20260424T133949Z
DTSTART;TZID=Asia/Tokyo:20260626T1900:0000
DTEND;TZID=Asia/Tokyo:20260626T210000
SUMMARY:doorv
LOCATION:Namba BEARS\, Osaka\, Japan
DESCRIPTION:Adv ¥2,500 / Door ¥2,800\nDoors 18:30:00\nStart 19:00:00
END:VEVENT
END:VCALENDAR
