BEGIN:VCALENDAR
VERSION:2.0
PRODID:-//OsakaLive//OsakaLive//EN
CALSCALE:GREGORIAN
METHOD:PUBLISH
BEGIN:VEVENT
UID:e0d05594-174d-4922-a41e-755600e833ff@osaka-live.app
DTSTAMP:20260424T135825Z
DTSTART;VALUE=DATE:20260721
DTEND;VALUE=DATE:20260722
SUMMARY:保山ひャン
LOCATION:Namba BEARS\, Osaka\, Japan
END:VEVENT
END:VCALENDAR
