BEGIN:VCALENDAR
VERSION:2.0
PRODID:-//OsakaLive//OsakaLive//EN
CALSCALE:GREGORIAN
METHOD:PUBLISH
BEGIN:VEVENT
UID:e0763e2e-8535-4d21-87ee-2e847c26163a@osaka-live.app
DTSTAMP:20260424T134011Z
DTSTART;TZID=Asia/Tokyo:20260611T1930:0000
DTEND;TZID=Asia/Tokyo:20260611T213000
SUMMARY:山本精一presents
LOCATION:Namba BEARS\, Osaka\, Japan
DESCRIPTION:Adv ¥3,000 / Door ¥3,500\nDoors 19:00:00\nStart 19:30:00
END:VEVENT
END:VCALENDAR
