BEGIN:VCALENDAR
VERSION:2.0
PRODID:-//OsakaLive//OsakaLive//EN
CALSCALE:GREGORIAN
METHOD:PUBLISH
BEGIN:VEVENT
UID:e0484699-8a40-45f7-8f79-2f3ff64a1e93@osaka-live.app
DTSTAMP:20260425T003422Z
DTSTART;VALUE=DATE:20270610
DTEND;VALUE=DATE:20270611
SUMMARY:■ホット・ウォーター・ミュージック／Hot Water Music
LOCATION:Osaka Ruido\, Namba\, Chuo Ward\, Osaka
END:VEVENT
END:VCALENDAR
