BEGIN:VCALENDAR
VERSION:2.0
PRODID:-//OsakaLive//OsakaLive//EN
CALSCALE:GREGORIAN
METHOD:PUBLISH
BEGIN:VEVENT
UID:df28fed2-6653-4c32-8520-0700e7cbfdb2@osaka-live.app
DTSTAMP:20260424T123359Z
DTSTART;VALUE=DATE:20261204
DTEND;VALUE=DATE:20261205
SUMMARY:2011年以前
LOCATION:BIG CAT\, Americamura\, Nishi Ward\, Osaka
DESCRIPTION:Tickets: http://l-tike.com/
URL:http://l-tike.com/
END:VEVENT
END:VCALENDAR
