BEGIN:VCALENDAR
VERSION:2.0
PRODID:-//OsakaLive//OsakaLive//EN
CALSCALE:GREGORIAN
METHOD:PUBLISH
BEGIN:VEVENT
UID:dec11a57-9b3c-4646-8423-9576de850b6d@osaka-live.app
DTSTAMP:20260424T122939Z
DTSTART;TZID=Asia/Tokyo:20260514T1900:0000
DTEND;TZID=Asia/Tokyo:20260514T210000
SUMMARY:Sammy Presents NEW HORIZON TOUR 2026
LOCATION:Yogibo META VALLEY\, Osaka\, Japan
DESCRIPTION:Adv ¥4,000 / Door ¥3,000\nDoors 18:00:00\nStart 19:00:00
END:VEVENT
END:VCALENDAR
