BEGIN:VCALENDAR
VERSION:2.0
PRODID:-//OsakaLive//OsakaLive//EN
CALSCALE:GREGORIAN
METHOD:PUBLISH
BEGIN:VEVENT
UID:dc276546-89bf-4476-867b-54724432bacd@osaka-live.app
DTSTAMP:20260424T122919Z
DTSTART;VALUE=DATE:20270629
DTEND;VALUE=DATE:20270630
SUMMARY:■ステレオラブ／STEREOLAB
LOCATION:Umeda Club Quattro\, Osaka\, Japan
END:VEVENT
END:VCALENDAR
