BEGIN:VCALENDAR
VERSION:2.0
PRODID:-//OsakaLive//OsakaLive//EN
CALSCALE:GREGORIAN
METHOD:PUBLISH
BEGIN:VEVENT
UID:dbcb29b4-5839-481d-a228-33219c364c77@osaka-live.app
DTSTAMP:20260424T134151Z
DTSTART;TZID=Asia/Tokyo:20260518T1800:0000
DTEND;TZID=Asia/Tokyo:20260518T200000
SUMMARY:tepPohseen
LOCATION:Namba BEARS\, Osaka\, Japan
DESCRIPTION:Adv ¥3,000 / Door ¥3,500\nDoors 17:30:00\nStart 18:00:00
END:VEVENT
END:VCALENDAR
