BEGIN:VCALENDAR
VERSION:2.0
PRODID:-//OsakaLive//OsakaLive//EN
CALSCALE:GREGORIAN
METHOD:PUBLISH
BEGIN:VEVENT
UID:da21aad7-8f47-490b-a7d3-f2f031800d59@osaka-live.app
DTSTAMP:20260424T154924Z
DTSTART;TZID=Asia/Tokyo:20260411T0945:0000
DTEND;TZID=Asia/Tokyo:20260411T114500
SUMMARY:『わろたらんど』~ワンコインライブ~
LOCATION:Americamura DROP\, Osaka\, Japan
DESCRIPTION:Doors 09:20:00\nStart 09:45:00
END:VEVENT
END:VCALENDAR
