BEGIN:VCALENDAR
VERSION:2.0
PRODID:-//OsakaLive//OsakaLive//EN
CALSCALE:GREGORIAN
METHOD:PUBLISH
BEGIN:VEVENT
UID:d99ed8e1-47fb-4d49-9e43-f62ba12a1c78@osaka-live.app
DTSTAMP:20260424T135105Z
DTSTART;VALUE=DATE:20260617
DTEND;VALUE=DATE:20260618
SUMMARY:DODDODOバンド
LOCATION:Namba BEARS\, Osaka\, Japan
END:VEVENT
END:VCALENDAR
