BEGIN:VCALENDAR
VERSION:2.0
PRODID:-//OsakaLive//OsakaLive//EN
CALSCALE:GREGORIAN
METHOD:PUBLISH
BEGIN:VEVENT
UID:d951539f-fd4e-4f0e-bec7-0a81cd701978@osaka-live.app
DTSTAMP:20260424T134324Z
DTSTART;TZID=Asia/Tokyo:20260606T1230:0000
DTEND;TZID=Asia/Tokyo:20260606T143000
SUMMARY:WEIRD DANCE
LOCATION:Namba BEARS\, Osaka\, Japan
DESCRIPTION:Adv ¥2,000 / Door ¥2,000\nDoors 12:00:00\nStart 12:30:00
END:VEVENT
END:VCALENDAR
